BEGIN:VCALENDAR
VERSION:2.0
PRODID:-//Flea Street Band - ECPv6.15.17.1//NONSGML v1.0//EN
CALSCALE:GREGORIAN
METHOD:PUBLISH
X-ORIGINAL-URL:https://fleastreetband.com
X-WR-CALDESC:Events for Flea Street Band
REFRESH-INTERVAL;VALUE=DURATION:PT1H
X-Robots-Tag:noindex
X-PUBLISHED-TTL:PT1H
BEGIN:VTIMEZONE
TZID:America/Los_Angeles
BEGIN:DAYLIGHT
TZOFFSETFROM:-0800
TZOFFSETTO:-0700
TZNAME:PDT
DTSTART:20220313T100000
END:DAYLIGHT
BEGIN:STANDARD
TZOFFSETFROM:-0700
TZOFFSETTO:-0800
TZNAME:PST
DTSTART:20221106T090000
END:STANDARD
BEGIN:DAYLIGHT
TZOFFSETFROM:-0800
TZOFFSETTO:-0700
TZNAME:PDT
DTSTART:20230312T100000
END:DAYLIGHT
BEGIN:STANDARD
TZOFFSETFROM:-0700
TZOFFSETTO:-0800
TZNAME:PST
DTSTART:20231105T090000
END:STANDARD
BEGIN:DAYLIGHT
TZOFFSETFROM:-0800
TZOFFSETTO:-0700
TZNAME:PDT
DTSTART:20240310T100000
END:DAYLIGHT
BEGIN:STANDARD
TZOFFSETFROM:-0700
TZOFFSETTO:-0800
TZNAME:PST
DTSTART:20241103T090000
END:STANDARD
END:VTIMEZONE
BEGIN:VEVENT
DTSTART;TZID=America/Los_Angeles:20230711T173000
DTEND;TZID=America/Los_Angeles:20230711T203000
DTSTAMP:20260424T082402
CREATED:20230115T223415Z
LAST-MODIFIED:20230512T010808Z
UID:1661-1689096600-1689107400@fleastreetband.com
SUMMARY:The Best Songs Ever
DESCRIPTION:
URL:https://fleastreetband.com/event/the-best-songs-ever/
LOCATION:Calvary Church\, 3254 Lori Drive\, Belmont\, CA\, 94002
CATEGORIES:The Best Songs Ever
ATTACH;FMTTYPE=image/jpeg:https://fleastreetband.com/wp-content/uploads/2023/01/TheBestSongsEver.jpg
END:VEVENT
END:VCALENDAR