BEGIN:VCALENDAR
VERSION:2.0
PRODID:-//Flea Street Band - ECPv6.15.17.1//NONSGML v1.0//EN
CALSCALE:GREGORIAN
METHOD:PUBLISH
X-ORIGINAL-URL:https://fleastreetband.com
X-WR-CALDESC:Events for Flea Street Band
REFRESH-INTERVAL;VALUE=DURATION:PT1H
X-Robots-Tag:noindex
X-PUBLISHED-TTL:PT1H
BEGIN:VTIMEZONE
TZID:America/Los_Angeles
BEGIN:DAYLIGHT
TZOFFSETFROM:-0800
TZOFFSETTO:-0700
TZNAME:PDT
DTSTART:20220313T100000
END:DAYLIGHT
BEGIN:STANDARD
TZOFFSETFROM:-0700
TZOFFSETTO:-0800
TZNAME:PST
DTSTART:20221106T090000
END:STANDARD
BEGIN:DAYLIGHT
TZOFFSETFROM:-0800
TZOFFSETTO:-0700
TZNAME:PDT
DTSTART:20230312T100000
END:DAYLIGHT
BEGIN:STANDARD
TZOFFSETFROM:-0700
TZOFFSETTO:-0800
TZNAME:PST
DTSTART:20231105T090000
END:STANDARD
BEGIN:DAYLIGHT
TZOFFSETFROM:-0800
TZOFFSETTO:-0700
TZNAME:PDT
DTSTART:20240310T100000
END:DAYLIGHT
BEGIN:STANDARD
TZOFFSETFROM:-0700
TZOFFSETTO:-0800
TZNAME:PST
DTSTART:20241103T090000
END:STANDARD
END:VTIMEZONE
BEGIN:VEVENT
DTSTART;TZID=America/Los_Angeles:20230830T180000
DTEND;TZID=America/Los_Angeles:20230830T193000
DTSTAMP:20260422T034545
CREATED:20230603T235802Z
LAST-MODIFIED:20230603T235802Z
UID:1879-1693418400-1693423800@fleastreetband.com
SUMMARY:Uke University
DESCRIPTION:Have you ever wanted to play ukulele? Signed up as a member of PUGs but don’t feel ready to jam with a group yet? Got a new ukulele and don’t know where to start? Would you like to meet new friends from the ever growing ukulele community? Well\, we’ve got you covered with “Uke University”\, a one month weekly intensive ukulele school sponsored by the Peninsula Ukulele Group and Belmont Library. \nThese classes are geared for a new beginner with 4 weekly 90 minute free classes. You will learn everything from how to tune your uke\, strum\, play chords and will play your first song at the end of lesson one! Fast paced\, hands on and fun with ukulele instructors available to assist you. All ages are welcome. \nYou will end the series playing in your first Jam Session with the PUGs accompanied by an instructor. No worries! \nSo bring your ukulele or check one out at any San Mateo Library for free. Classes start Aug 2 at the Belmont Library\, Oracle room. Join the fun and sign up now! \nClass size is limited to 12. All classes will be held on Wednesdays\, 6-7:30pm on Aug 2\, Aug 9\, Aug 23 and 30. Sign up by August 1\, 2023. \nUke University materialsUke University Youtube tutorials
URL:https://fleastreetband.com/event/uke-university-08-30/
LOCATION:Belmont Library\, 1110 Alameda de las Pulgas\, Belmont\, 94002
CATEGORIES:Uke University
ATTACH;FMTTYPE=image/jpeg:https://fleastreetband.com/wp-content/uploads/2023/01/thumbnail.jpg
END:VEVENT
END:VCALENDAR