BEGIN:VCALENDAR
VERSION:2.0
PRODID:-//Flea Street Band - ECPv6.15.17.1//NONSGML v1.0//EN
CALSCALE:GREGORIAN
METHOD:PUBLISH
X-WR-CALNAME:Flea Street Band
X-ORIGINAL-URL:https://fleastreetband.com
X-WR-CALDESC:Events for Flea Street Band
REFRESH-INTERVAL;VALUE=DURATION:PT1H
X-Robots-Tag:noindex
X-PUBLISHED-TTL:PT1H
BEGIN:VTIMEZONE
TZID:America/Los_Angeles
BEGIN:DAYLIGHT
TZOFFSETFROM:-0800
TZOFFSETTO:-0700
TZNAME:PDT
DTSTART:20230312T100000
END:DAYLIGHT
BEGIN:STANDARD
TZOFFSETFROM:-0700
TZOFFSETTO:-0800
TZNAME:PST
DTSTART:20231105T090000
END:STANDARD
BEGIN:DAYLIGHT
TZOFFSETFROM:-0800
TZOFFSETTO:-0700
TZNAME:PDT
DTSTART:20240310T100000
END:DAYLIGHT
BEGIN:STANDARD
TZOFFSETFROM:-0700
TZOFFSETTO:-0800
TZNAME:PST
DTSTART:20241103T090000
END:STANDARD
BEGIN:DAYLIGHT
TZOFFSETFROM:-0800
TZOFFSETTO:-0700
TZNAME:PDT
DTSTART:20250309T100000
END:DAYLIGHT
BEGIN:STANDARD
TZOFFSETFROM:-0700
TZOFFSETTO:-0800
TZNAME:PST
DTSTART:20251102T090000
END:STANDARD
END:VTIMEZONE
BEGIN:VEVENT
DTSTART;TZID=America/Los_Angeles:20240925T180000
DTEND;TZID=America/Los_Angeles:20240925T200000
DTSTAMP:20260421T152402
CREATED:20240130T185220Z
LAST-MODIFIED:20240429T210802Z
UID:2281-1727287200-1727294400@fleastreetband.com
SUMMARY:Let's have a Luau at the Library!
DESCRIPTION:Please join us for a festive and fun Meetup with a Hawaiian/Luau theme! We’ll play Hawaiian songs\, watch some hula dancing and wear our festive\, Hawaiian attire (optional). Flea St Band will have performed these songs at the San Carlos Adult Community Center Luau luncheon in August\, and we’re bringing the luau to you! We hope you can join us for this fun event.
URL:https://fleastreetband.com/event/lets-have-a-luau-at-the-library/
LOCATION:San Carlos Library\, 610 Elm St\, San Carlos\, CA\, 94070
CATEGORIES:PUG live
ATTACH;FMTTYPE=image/jpeg:https://fleastreetband.com/wp-content/uploads/2024/01/Luau.jpg
END:VEVENT
END:VCALENDAR