BEGIN:VCALENDAR
VERSION:2.0
PRODID:-//Flea Street Band - ECPv6.15.17.1//NONSGML v1.0//EN
CALSCALE:GREGORIAN
METHOD:PUBLISH
X-ORIGINAL-URL:https://fleastreetband.com
X-WR-CALDESC:Events for Flea Street Band
REFRESH-INTERVAL;VALUE=DURATION:PT1H
X-Robots-Tag:noindex
X-PUBLISHED-TTL:PT1H
BEGIN:VTIMEZONE
TZID:America/Los_Angeles
BEGIN:DAYLIGHT
TZOFFSETFROM:-0800
TZOFFSETTO:-0700
TZNAME:PDT
DTSTART:20220313T100000
END:DAYLIGHT
BEGIN:STANDARD
TZOFFSETFROM:-0700
TZOFFSETTO:-0800
TZNAME:PST
DTSTART:20221106T090000
END:STANDARD
BEGIN:DAYLIGHT
TZOFFSETFROM:-0800
TZOFFSETTO:-0700
TZNAME:PDT
DTSTART:20230312T100000
END:DAYLIGHT
BEGIN:STANDARD
TZOFFSETFROM:-0700
TZOFFSETTO:-0800
TZNAME:PST
DTSTART:20231105T090000
END:STANDARD
BEGIN:DAYLIGHT
TZOFFSETFROM:-0800
TZOFFSETTO:-0700
TZNAME:PDT
DTSTART:20240310T100000
END:DAYLIGHT
BEGIN:STANDARD
TZOFFSETFROM:-0700
TZOFFSETTO:-0800
TZNAME:PST
DTSTART:20241103T090000
END:STANDARD
END:VTIMEZONE
BEGIN:VEVENT
DTSTART;TZID=America/Los_Angeles:20230902T160000
DTEND;TZID=America/Los_Angeles:20230902T180000
DTSTAMP:20260425T201353
CREATED:20230725T023014Z
LAST-MODIFIED:20230802T044145Z
UID:1972-1693670400-1693677600@fleastreetband.com
SUMMARY:Burlingame Multicultural Festival
DESCRIPTION:
URL:https://fleastreetband.com/event/burlingame-multicultural-festival/
LOCATION:Burlingame\, Burlingame Avenue\, Burlingame\, CA\, 94010
CATEGORIES:Burlingame Multicultural Festival
ATTACH;FMTTYPE=image/jpeg:https://fleastreetband.com/wp-content/uploads/2023/07/Burlingame.jpg
END:VEVENT
BEGIN:VEVENT
DTSTART;TZID=America/Los_Angeles:20230825T173000
DTEND;TZID=America/Los_Angeles:20230825T200000
DTSTAMP:20260425T201353
CREATED:20230802T044611Z
LAST-MODIFIED:20230816T001108Z
UID:2024-1692984600-1692993600@fleastreetband.com
SUMMARY:Rehearsal - Burlingame Multicultural Festival
DESCRIPTION:
URL:https://fleastreetband.com/event/rehearsal-burlingame-multicultural-festival-2/
LOCATION:Astrid’s house\, Belmont\, 94002
CATEGORIES:Burlingame Multicultural Festival
ATTACH;FMTTYPE=image/jpeg:https://fleastreetband.com/wp-content/uploads/2023/07/Burlingame.jpg
END:VEVENT
BEGIN:VEVENT
DTSTART;TZID=America/Los_Angeles:20230822T173000
DTEND;TZID=America/Los_Angeles:20230822T200000
DTSTAMP:20260425T201353
CREATED:20230802T044426Z
LAST-MODIFIED:20230802T044523Z
UID:2022-1692725400-1692734400@fleastreetband.com
SUMMARY:Rehearsal - Burlingame Multicultural Festival
DESCRIPTION:
URL:https://fleastreetband.com/event/rehearsal-burlingame-multicultural-festival/
LOCATION:Calvary Church\, 3254 Lori Drive\, Belmont\, CA\, 94002
CATEGORIES:Burlingame Multicultural Festival
ATTACH;FMTTYPE=image/jpeg:https://fleastreetband.com/wp-content/uploads/2023/07/Burlingame.jpg
END:VEVENT
END:VCALENDAR