BEGIN:VCALENDAR
VERSION:2.0
PRODID:-//Flea Street Band - ECPv6.15.17.1//NONSGML v1.0//EN
CALSCALE:GREGORIAN
METHOD:PUBLISH
X-ORIGINAL-URL:https://fleastreetband.com
X-WR-CALDESC:Events for Flea Street Band
REFRESH-INTERVAL;VALUE=DURATION:PT1H
X-Robots-Tag:noindex
X-PUBLISHED-TTL:PT1H
BEGIN:VTIMEZONE
TZID:America/Los_Angeles
BEGIN:DAYLIGHT
TZOFFSETFROM:-0800
TZOFFSETTO:-0700
TZNAME:PDT
DTSTART:20250309T100000
END:DAYLIGHT
BEGIN:STANDARD
TZOFFSETFROM:-0700
TZOFFSETTO:-0800
TZNAME:PST
DTSTART:20251102T090000
END:STANDARD
BEGIN:DAYLIGHT
TZOFFSETFROM:-0800
TZOFFSETTO:-0700
TZNAME:PDT
DTSTART:20260308T100000
END:DAYLIGHT
BEGIN:STANDARD
TZOFFSETFROM:-0700
TZOFFSETTO:-0800
TZNAME:PST
DTSTART:20261101T090000
END:STANDARD
BEGIN:DAYLIGHT
TZOFFSETFROM:-0800
TZOFFSETTO:-0700
TZNAME:PDT
DTSTART:20270314T100000
END:DAYLIGHT
BEGIN:STANDARD
TZOFFSETFROM:-0700
TZOFFSETTO:-0800
TZNAME:PST
DTSTART:20271107T090000
END:STANDARD
END:VTIMEZONE
BEGIN:VEVENT
DTSTART;TZID=America/Los_Angeles:20260225T180000
DTEND;TZID=America/Los_Angeles:20260225T193000
DTSTAMP:20260422T093113
CREATED:20260120T034358Z
LAST-MODIFIED:20260220T035941Z
UID:3130-1772042400-1772047800@fleastreetband.com
SUMMARY:Everybody Has A Story - Songs with a tale to tell
DESCRIPTION:“Everyone Has A Story… Songs That Tell A Tale.” These are songs tell a story with passion\, with humor\, with sadness\, with joy\, or with lesson to teach. These songs by master songwriters can draw a musical picture which can remain in your mind indelibly and tug at your heartstrings each time you’ll hear them. They come from all genres; Folk\, Pop\, Rock\, R & B\, and Country.
URL:https://fleastreetband.com/event/everybody-has-a-story-songs-with-a-tale-to-tell/
LOCATION:San Carlos Library\, 610 Elm St\, San Carlos\, CA\, 94070
CATEGORIES:PUG live
ATTACH;FMTTYPE=image/jpeg:https://fleastreetband.com/wp-content/uploads/2026/01/story.jpg
END:VEVENT
END:VCALENDAR