BEGIN:VCALENDAR
VERSION:2.0
PRODID:-//Flea Street Band - ECPv6.15.17.1//NONSGML v1.0//EN
CALSCALE:GREGORIAN
METHOD:PUBLISH
X-ORIGINAL-URL:https://fleastreetband.com
X-WR-CALDESC:Events for Flea Street Band
REFRESH-INTERVAL;VALUE=DURATION:PT1H
X-Robots-Tag:noindex
X-PUBLISHED-TTL:PT1H
BEGIN:VTIMEZONE
TZID:America/Los_Angeles
BEGIN:DAYLIGHT
TZOFFSETFROM:-0800
TZOFFSETTO:-0700
TZNAME:PDT
DTSTART:20240310T100000
END:DAYLIGHT
BEGIN:STANDARD
TZOFFSETFROM:-0700
TZOFFSETTO:-0800
TZNAME:PST
DTSTART:20241103T090000
END:STANDARD
BEGIN:DAYLIGHT
TZOFFSETFROM:-0800
TZOFFSETTO:-0700
TZNAME:PDT
DTSTART:20250309T100000
END:DAYLIGHT
BEGIN:STANDARD
TZOFFSETFROM:-0700
TZOFFSETTO:-0800
TZNAME:PST
DTSTART:20251102T090000
END:STANDARD
BEGIN:DAYLIGHT
TZOFFSETFROM:-0800
TZOFFSETTO:-0700
TZNAME:PDT
DTSTART:20260308T100000
END:DAYLIGHT
BEGIN:STANDARD
TZOFFSETFROM:-0700
TZOFFSETTO:-0800
TZNAME:PST
DTSTART:20261101T090000
END:STANDARD
END:VTIMEZONE
BEGIN:VEVENT
DTSTART;TZID=America/Los_Angeles:20250201T130000
DTEND;TZID=America/Los_Angeles:20250201T150000
DTSTAMP:20260421T085757
CREATED:20250118T031318Z
LAST-MODIFIED:20250118T031836Z
UID:2777-1738414800-1738422000@fleastreetband.com
SUMMARY:Belle Haven
DESCRIPTION:
URL:https://fleastreetband.com/event/belle-haven/
LOCATION:Belle Haven\, 100 Terminal Ave\, Menlo Park\, CA
CATEGORIES:Belle Haven
ATTACH;FMTTYPE=image/jpeg:https://fleastreetband.com/wp-content/uploads/2025/01/Bellehaven.jpg
END:VEVENT
BEGIN:VEVENT
DTSTART;TZID=America/Los_Angeles:20250204T140000
DTEND;TZID=America/Los_Angeles:20250204T160000
DTSTAMP:20260421T085757
CREATED:20250117T204033Z
LAST-MODIFIED:20250117T205007Z
UID:2712-1738677600-1738684800@fleastreetband.com
SUMMARY:Rehearse with the Flea St Band
DESCRIPTION:The Flea St Band\, the house band for the Peninsula Ukulele Group\, rehearses songs twice a month for upcoming Meetups and performances. You are invited to participate in this rehearsal. We are providing a new opportunity to play our songs with the Band in a casual\, low stress environment before a Meetup occurs. \nAll levels are welcome. All instruments\, including ukuleles\, and singers are welcome. If you are a beginner\, no worries. Play what you can and observe. No one is watching you and judging you. It’s a friendly and welcoming environment.\nThe songs range from beginner to intermediate level with some frequent chord changes\, varying strums and optional fingerpicking and riffs. Being able to play basic and intermediate chords\, reading tabulature and ukulele chord diagrams is helpful. Practicing the songs before and after rehearsal is helpful. \nA link to the song sheet will be provided for each session and the songs are projected on a screen at the rehearsal. You may want to bring a tablet\, laptop or printed playlist\, if you can’t see the songs well on a screen from a distance.\nNow if you would like to improve your playing or just play together more than once a month\, you’re in luck. You’ve found the right place!
URL:https://fleastreetband.com/event/rehearse-with-the-flea-st-band/
LOCATION:San Carlos Library\, 610 Elm St\, San Carlos\, CA\, 94070
CATEGORIES:PUG live,Rehearsal
ATTACH;FMTTYPE=image/jpeg:https://fleastreetband.com/wp-content/uploads/2025/01/band.jpg
END:VEVENT
BEGIN:VEVENT
DTSTART;TZID=America/Los_Angeles:20250212T174500
DTEND;TZID=America/Los_Angeles:20250212T181500
DTSTAMP:20260421T085757
CREATED:20250117T204601Z
LAST-MODIFIED:20250117T204937Z
UID:2716-1739382300-1739384100@fleastreetband.com
SUMMARY:Will You Be My Valentine? Pop Love Songs
DESCRIPTION:Need a song to sing for your Valentine this year? Well\, this is the ukulele Meetup for you. We’ll be playing a number of pop love songs over the years from Frank Sinatra and Nat King Cole to the Bangles and Ed Sheeran. We are having the Meetup early this month due to the availability of our meeting site at the library.
URL:https://fleastreetband.com/event/will-you-be-my-valentine-pop-love-songs/
LOCATION:San Carlos Library\, 610 Elm St\, San Carlos\, CA\, 94070
CATEGORIES:PUG live
ATTACH;FMTTYPE=image/jpeg:https://fleastreetband.com/wp-content/uploads/2025/01/valentine.jpg
END:VEVENT
END:VCALENDAR