BEGIN:VCALENDAR
VERSION:2.0
PRODID:-//Flea Street Band - ECPv6.15.17.1//NONSGML v1.0//EN
CALSCALE:GREGORIAN
METHOD:PUBLISH
X-ORIGINAL-URL:https://fleastreetband.com
X-WR-CALDESC:Events for Flea Street Band
REFRESH-INTERVAL;VALUE=DURATION:PT1H
X-Robots-Tag:noindex
X-PUBLISHED-TTL:PT1H
BEGIN:VTIMEZONE
TZID:America/Los_Angeles
BEGIN:DAYLIGHT
TZOFFSETFROM:-0800
TZOFFSETTO:-0700
TZNAME:PDT
DTSTART:20240310T100000
END:DAYLIGHT
BEGIN:STANDARD
TZOFFSETFROM:-0700
TZOFFSETTO:-0800
TZNAME:PST
DTSTART:20241103T090000
END:STANDARD
BEGIN:DAYLIGHT
TZOFFSETFROM:-0800
TZOFFSETTO:-0700
TZNAME:PDT
DTSTART:20250309T100000
END:DAYLIGHT
BEGIN:STANDARD
TZOFFSETFROM:-0700
TZOFFSETTO:-0800
TZNAME:PST
DTSTART:20251102T090000
END:STANDARD
BEGIN:DAYLIGHT
TZOFFSETFROM:-0800
TZOFFSETTO:-0700
TZNAME:PDT
DTSTART:20260308T100000
END:DAYLIGHT
BEGIN:STANDARD
TZOFFSETFROM:-0700
TZOFFSETTO:-0800
TZNAME:PST
DTSTART:20261101T090000
END:STANDARD
END:VTIMEZONE
BEGIN:VEVENT
DTSTART;TZID=America/Los_Angeles:20250311T140000
DTEND;TZID=America/Los_Angeles:20250311T160000
DTSTAMP:20260421T121300
CREATED:20250118T025432Z
LAST-MODIFIED:20250118T025516Z
UID:2749-1741701600-1741708800@fleastreetband.com
SUMMARY:Rehearse with the Flea St Band
DESCRIPTION:The Flea St Band\, the house band for the Peninsula Ukulele Group\, rehearses songs twice a month for upcoming Meetups and performances. You are invited to participate in this rehearsal. We are providing a new opportunity to play our songs with the Band in a casual\, low stress environment before a Meetup occurs. \nAll levels are welcome. All instruments\, including ukuleles\, and singers are welcome. If you are a beginner\, no worries. Play what you can and observe. No one is watching you and judging you. It’s a friendly and welcoming environment.\nThe songs range from beginner to intermediate level with some frequent chord changes\, varying strums and optional fingerpicking and riffs. Being able to play basic and intermediate chords\, reading tabulature and ukulele chord diagrams is helpful. Practicing the songs before and after rehearsal is helpful. \nA link to the song sheet will be provided for each session and the songs are projected on a screen at the rehearsal. You may want to bring a tablet\, laptop or printed playlist\, if you can’t see the songs well on a screen from a distance.\nNow if you would like to improve your playing or just play together more than once a month\, you’re in luck. You’ve found the right place!
URL:https://fleastreetband.com/event/rehearse-with-the-flea-st-band-2/
LOCATION:San Carlos Library\, 610 Elm St\, San Carlos\, CA\, 94070
CATEGORIES:PUG live,Rehearsal
ATTACH;FMTTYPE=image/jpeg:https://fleastreetband.com/wp-content/uploads/2025/01/band.jpg
END:VEVENT
BEGIN:VEVENT
DTSTART;TZID=America/Los_Angeles:20250312T180000
DTEND;TZID=America/Los_Angeles:20250312T193000
DTSTAMP:20260421T121300
CREATED:20250117T205032Z
LAST-MODIFIED:20250327T035050Z
UID:2720-1741802400-1741807800@fleastreetband.com
SUMMARY:Cheers to 11 Years! PUGs 11th Anniversary!
DESCRIPTION:Please join the PUGs and the Flea Street Band as we celebrate our 11th Anniversary together. 11 years of monthly jam sessions\, we’ve hosted 205 sessions of playing music together and 3 years of Zoom Meetups! Wow\, we’ve been busy and have much to be proud of. So let’s celebrate another year by playing some fun songs at the San Carlos Library together. We really enjoyed our tenth year anniversary and we’re back for more fun :) Don’t miss this awesome celebration! Wahoo! Cheers to 11 years!
URL:https://fleastreetband.com/event/cheers-to-11-years-pugs-11th-anniversary/
LOCATION:San Carlos Library\, 610 Elm St\, San Carlos\, CA\, 94070
CATEGORIES:PUG live
ATTACH;FMTTYPE=image/jpeg:https://fleastreetband.com/wp-content/uploads/2023/05/Flea-Street-Band-screen.jpg
END:VEVENT
END:VCALENDAR